BEGIN:VCALENDAR
VERSION:2.0
PRODID:-//Great Lakes Belgian Tervuren Club - ECPv6.13.2.1//NONSGML v1.0//EN
CALSCALE:GREGORIAN
METHOD:PUBLISH
X-WR-CALNAME:Great Lakes Belgian Tervuren Club
X-ORIGINAL-URL:https://glbtc.org
X-WR-CALDESC:Events for Great Lakes Belgian Tervuren Club
REFRESH-INTERVAL;VALUE=DURATION:PT1H
X-Robots-Tag:noindex
X-PUBLISHED-TTL:PT1H
BEGIN:VTIMEZONE
TZID:America/Chicago
BEGIN:DAYLIGHT
TZOFFSETFROM:-0600
TZOFFSETTO:-0500
TZNAME:CDT
DTSTART:20250309T080000
END:DAYLIGHT
BEGIN:STANDARD
TZOFFSETFROM:-0500
TZOFFSETTO:-0600
TZNAME:CST
DTSTART:20251102T070000
END:STANDARD
END:VTIMEZONE
BEGIN:VEVENT
DTSTART;TZID=America/Chicago:20250920T080000
DTEND;TZID=America/Chicago:20250921T140000
DTSTAMP:20260424T002422
CREATED:20250113T183208Z
LAST-MODIFIED:20250805T221649Z
UID:1098-1758355200-1758463200@glbtc.org
SUMMARY:AKC herding trials September 2025
DESCRIPTION:Great Lakes Belgian Tervuren Club\, Inc.\nAKC Herding Trials\nSeptember 20-21 2025 \nWooden Ewe Ranch\n2514 Dean St\, Woodstock IL \nEach day:\nA Sheep\, A & B Ducks \nEntries open at 8:00 am CDT on August 13\nEntries close at 6:00 pm CDT on September 10\n \nPremium link \nOnline Entry link \nSecretary: Sue Fregien\n24902 Apple Rd\, Waterford WI 53185\n414-852-2681 sue@caper-dogs.com
URL:https://glbtc.org/events/akc-herding-trials-march-2025/
LOCATION:Wooden Ewe Ranch\, 2514 Dean St\, Woodstock\, IL\, 60098\, United States
END:VEVENT
END:VCALENDAR