BEGIN:VCALENDAR
VERSION:2.0
PRODID:-//Great Lakes Belgian Tervuren Club - ECPv6.13.2.1//NONSGML v1.0//EN
CALSCALE:GREGORIAN
METHOD:PUBLISH
X-WR-CALNAME:Great Lakes Belgian Tervuren Club
X-ORIGINAL-URL:https://glbtc.org
X-WR-CALDESC:Events for Great Lakes Belgian Tervuren Club
REFRESH-INTERVAL;VALUE=DURATION:PT1H
X-Robots-Tag:noindex
X-PUBLISHED-TTL:PT1H
BEGIN:VTIMEZONE
TZID:America/Chicago
BEGIN:DAYLIGHT
TZOFFSETFROM:-0600
TZOFFSETTO:-0500
TZNAME:CDT
DTSTART:20260308T080000
END:DAYLIGHT
BEGIN:STANDARD
TZOFFSETFROM:-0500
TZOFFSETTO:-0600
TZNAME:CST
DTSTART:20261101T070000
END:STANDARD
END:VTIMEZONE
BEGIN:VEVENT
DTSTART;TZID=America/Chicago:20260221T080000
DTEND;TZID=America/Chicago:20260222T170000
DTSTAMP:20260423T184212
CREATED:20230520T185447Z
LAST-MODIFIED:20260103T172947Z
UID:1020-1771660800-1771779600@glbtc.org
SUMMARY:AKC Agility Trials
DESCRIPTION:Great Lakes Belgian Tervuren Club\, Inc.\nAKC All-breed Agility Trials\nFebruary 21-22\, 2026 \nRush ‘N’ Around Agility Center\n27432 South US Hwy 45\, Manhattan IL \nSaaturday: Std/JWW\, Premier Std\, FAST\nSunday: Std/JWW\, Premier JWW\, Time2Beat \nEntries open at 8:00 am CST on December 12 (First Received)\nEntries close at 6:00 pm CST on February 6\n \nPremium link \nSecretary: Jim Payne\n1138 Mary Jane Lane\, Beach Park IL 60099\n224-303-4010   jim@jpawsagility.com
URL:https://glbtc.org/events/akc-all-breed-agility-trials/
LOCATION:Rush ‘N’ Around Agility Center\, 27432 S. Route 45\, Manhattan\, IL\, 60442\, United States
ORGANIZER;CN="Great Lakes Belgian Tervuren Club":MAILTO:sue@caper-dogs.com
END:VEVENT
BEGIN:VEVENT
DTSTART;TZID=America/Chicago:20260306T080000
DTEND;TZID=America/Chicago:20260308T080000
DTSTAMP:20260423T184212
CREATED:20230117T225353Z
LAST-MODIFIED:20251221T205732Z
UID:909-1772784000-1772956800@glbtc.org
SUMMARY:Independent Specialty
DESCRIPTION:Great Lakes Belgian Tervuren Club\, Inc.\n18th Annual Independent Specialty\nMarch 6-8 2026 \nCarDunAl Obedience Training Club\n10783 Wolf Dr\, Huntley IL \nAgility\, Rally\, Obedience\, Sweepstakes\,\nBeginner Puppy\, Junior Showmanship\, Conformation \nEntries close Wednesday\, February 18\n \nPremium \nOnline Entry link \nSecretary: Laura Ahlgren\n10403 Northwestern Ave\, Franksville WI 53126\nlaura@caper-dogs.com
URL:https://glbtc.org/events/independent-specialty/
LOCATION:CarDunAl Obedience Training Club\, 10783 Wolf Dr\, Huntley\, WI\, 60142
END:VEVENT
BEGIN:VEVENT
DTSTART;TZID=America/Chicago:20260627T080000
DTEND;TZID=America/Chicago:20260628T170000
DTSTAMP:20260423T184212
CREATED:20260316T130035Z
LAST-MODIFIED:20260316T130035Z
UID:1151-1782547200-1782666000@glbtc.org
SUMMARY:AKC all-breed Agility Trials
DESCRIPTION:Great Lakes Belgian Tervuren Club\, Inc.\nAKC All-breed Agility Trials\nJune 27-28 2026 \nPawsitively Heaven Pet Resort\n10051 Kitty Ave\, Chicago Ridge IL \nSaaturday: Std/JWW\, Premier Std\, Time2Beat\nSunday: Std/JWW\, Premier JWW\, Time2Beat \nEntries open at 8:00 am CDT on April 27 (First Received)\nEntries close at 6:00 pm CDT on June 13\n \nPremium link \nSecretary: Robert Olson\n817 Ogden Ave #4439\, Lisle IL 60532-0788\n815-242-5483   secretary@livetrial.net
URL:https://glbtc.org/events/akc-all-breed-agility-trials-3/
LOCATION:Pawsitively Heaven Pet Resort\, 10051 Kitty Ave\, Chicago Ridge\, IL\, 60415\, United States
END:VEVENT
END:VCALENDAR